BEGIN:VCALENDAR
VERSION:2.0
PRODID:-//Tukios.com/
BEGIN:VEVENT
UID:b7f0476e-b4df-47a5-b5a8-a56a6169e125@www.delawarefuneral.com
DTSTAMP:20260420T191107Z
DTSTART:20260424T163000Z
DTEND:20260424T170000Z
SUMMARY:Cryptside Service
DESCRIPTION:
URL:https://www.delawarefuneral.com/obituaries/kathleen-ellen-walsh
LOCATION:All Saints Cemetery 6001 Kirkwood Hwy  Wilmington DE 19808
GEO:39.714951;-75.6811719
END:VEVENT
END:VCALENDAR