BEGIN:VCALENDAR
VERSION:2.0
PRODID:-//Tukios.com/
BEGIN:VEVENT
UID:85bbdea2-c157-4152-ba4c-27bda30bceec@www.delawarefuneral.com
DTSTAMP:20260420T191107Z
DTSTART:20260424T150000Z
DTEND:20260424T160000Z
SUMMARY:Mass
DESCRIPTION:
URL:https://www.delawarefuneral.com/obituaries/kathleen-ellen-walsh
LOCATION:St. Hedwig R.C Church 408 S. Harrison St.,  Wilmington DE 19805
GEO:39.7402243;-75.5659376
END:VEVENT
END:VCALENDAR