BEGIN:VCALENDAR
VERSION:2.0
PRODID:-//Tukios.com/
BEGIN:VEVENT
UID:557ab924-d61a-4b63-9d71-5724bdb4f320@www.delawarefuneral.com
DTSTAMP:20260420T190840Z
DTSTART:20260424T140000Z
DTEND:20260424T150000Z
SUMMARY:Public Viewing
DESCRIPTION:
URL:https://www.delawarefuneral.com/obituaries/kathleen-ellen-walsh
LOCATION:St. Hedwig R.C Church 408 S. Harrison St.,  Wilmington DE 19805
GEO:39.7402243;-75.5659376
END:VEVENT
END:VCALENDAR