BEGIN:VCALENDAR
VERSION:2.0
PRODID:-//Tukios.com/
BEGIN:VEVENT
UID:7da6db21-f1bb-44ed-b5ab-f41fbc302a89@www.delawarefuneral.com
DTSTAMP:20260420T190840Z
DTSTART:20260423T220000Z
DTEND:20260424T000000Z
SUMMARY:Public Viewing
DESCRIPTION:
URL:https://www.delawarefuneral.com/obituaries/kathleen-ellen-walsh
LOCATION:Krienen-Griffith Funeral Home 1400 Kirkwood Hwy  Wilmington DE 
	19720
GEO:39.7387769;-75.6023949
END:VEVENT
END:VCALENDAR